Workbook
Name UniqueGroup: #REF!

Sheet Contents
B3: Contents | C3: Description
B5: Guidance on STDF templates
B6: Templates | C6: Contains all STDF templates. Identifies each Field label (column headings in each template), their associated field name (which is used for Validations and Reconciliations), their Enumeration and Definition names (which are used for the Enumerations and Definitions worksheets respectively). It also identifies the ranges, whether cells are mandatory or unique, all of which are consistent with the Validations worksheet.
B7: Enumerations | C7: Contains the Enumeration names from the STDF templates worksheet, the Enumerations and their descriptions.
B8: Definitions | C8: Contains the Definition names from the STDF templates worksheet and their descriptions.
B9: Validations | C9: Contains all validation rules across all STDF templates. These are split between Type, Enumeration, Range, Mandatory, Pattern and Unique rules.
B10: Patterns | C10: This contains all Patterns as shown within STDF templates.
B11: Reconciliations | C11: This contains most of the same information as the 026 Reconciliations template, mainly the Unique ID, Control type, Qualified name, Sign, Template, Worksheet, Dimension, Dimension value or description, Field name, High level reconciliation category, Reconciliation assessment category.
B13: Coverage and template maps
B14: STDF template map | C14: Table 4 from STDF manual - Mapping of all STDF templates that shows which templates are projections or actuals and which risk area they capture. For projections templates it shows which templates are mainly capturing data covering Capital resources or Capital requirements (RWAs).
B15: Capital mapping | C15: Table 5 from STDF manual - Mapping between Capital items and which other risk area templates collect these items (where relevant) in more detail across capital resources and capital requirements.
B16: Balance sheet mapping | C16: Tables 6A and 6B from STDF manual - Mapping of on balance sheet and off balance sheet categories to STDF templates.

Sheet Templates
A1: STDF templates
E2: This name is used in Validations and Reconciliations | F2: Used in templates | G2: Used in Definitions worksheet | I2: Used in Enumerations worksheet
A3: Template number | B3: Template Name | C3: Version | D3: Tab Name | E3: Field_Name | F3: Field_Label | G3: Definition_Name | H3: Link to Definition_name | I3: Enumeration_Name | J3: Link to Enumeration_Name | K3: Data type | L3: Range_Bottom | M3: Range_Top | N3: Range_Scope | O3: Mandatory | P3: Unique
A4: 22 | B4: AssetLiabilityManagement | C4: 202203 | D4: Comments | E4: Context | F4: Context | G4: Context | H4: =HYPERLINK( "#'Definitions'!A" & MATCH(G4, Definitions!A:A, 0), G4) -> Context | I4: ContextAssetLiabilityManagement | J4: =IF(I4="","", HYPERLINK( "#'Enumerations'!A" & MATCH(I4, Enumerations!A:A, 0), I4)) -> ContextAssetLiabilityManagement
A5: 22 | B5: AssetLiabilityManagement | C5: 202203 | D5: Comments | E5: Commenttype | F5: Comment type | G5: Commenttype | H5: =HYPERLINK( "#'Definitions'!A" & MATCH(G5, Definitions!A:A, 0), G5) -> Commenttype | I5: Commenttype | J5: =IF(I5="","", HYPERLINK( "#'Enumerations'!A" & MATCH(I5, Enumerations!A:A, 0), I5)) -> Commenttype
A6: 22 | B6: AssetLiabilityManagement | C6: 202203 | D6: Comments | E6: RuleID | F6: Rule ID | G6: RuleID | H6: =HYPERLINK( "#'Definitions'!A" & MATCH(G6, Definitions!A:A, 0), G6) -> RuleID | J6: =IF(I6="","", HYPERLINK( "#'Enumerations'!A" & MATCH(I6, Enumerations!A:A, 0), I6)) | K6: String (255 long)
A7: 22 | B7: AssetLiabilityManagement | C7: 202203 | D7: Comments | E7: Comment | F7: Comment | G7: Comment | H7: =HYPERLINK( "#'Definitions'!A" & MATCH(G7, Definitions!A:A, 0), G7) -> Comment | J7: =IF(I7="","", HYPERLINK( "#'Enumerations'!A" & MATCH(I7, Enumerations!A:A, 0), I7)) | K7: Comment (2000 long)
A8: 22 | B8: AssetLiabilityManagement | C8: 202203 | D8: Non_traded_market_risk | E8: Organisationalunitlevel1 | F8: Organisational unit level 1 | G8: Organisationalunitlevel1 | H8: =HYPERLINK( "#'Definitions'!A" & MATCH(G8, Definitions!A:A, 0), G8) -> Organisationalunitlevel1 | J8: =IF(I8="","", HYPERLINK( "#'Enumerations'!A" & MATCH(I8, Enumerations!A:A, 0), I8)) | K8: String (255 long) | O8: Yes | P8: Unique Group 1
A9: 22 | B9: AssetLiabilityManagement | C9: 202203 | D9: Non_traded_market_risk | E9: Organisationalunitlevel2 | F9: Organisational unit level 2 | G9: Organisationalunitlevel2 | H9: =HYPERLINK( "#'Definitions'!A" & MATCH(G9, Definitions!A:A, 0), G9) -> Organisationalunitlevel2 | J9: =IF(I9="","", HYPERLINK( "#'Enumerations'!A" & MATCH(I9, Enumerations!A:A, 0), I9)) | K9: String (255 long) | O9: Yes | P9: Unique Group 1
A10: 22 | B10: AssetLiabilityManagement | C10: 202203 | D10: Non_traded_market_risk | E10: Organisationalunitlevel3 | F10: Organisational unit level 3 | G10: Organisationalunitlevel3 | H10: =HYPERLINK( "#'Definitions'!A" & MATCH(G10, Definitions!A:A, 0), G10) -> Organisationalunitlevel3 | J10: =IF(I10="","", HYPERLINK( "#'Enumerations'!A" & MATCH(I10, Enumerations!A:A, 0), I10)) | K10: String (255 long) | P10: Unique Group 1
A11: 22 | B11: AssetLiabilityManagement | C11: 202203 | D11: Non_traded_market_risk | E11: Balancesheetcurrency | F11: Balance sheet currency | G11: Balancesheetcurrency | H11: =HYPERLINK( "#'Definitions'!A" & MATCH(G11, Definitions!A:A, 0), G11) -> Balancesheetcurrency | I11: Balancesheetcurrency | J11: =IF(I11="","", HYPERLINK( "#'Enumerations'!A" & MATCH(I11, Enumerations!A:A, 0), I11)) -> Balancesheetcurrency | O11: Yes | P11: Unique Group 1
A12: 22 | B12: AssetLiabilityManagement | C12: 202203 | D12: Non_traded_market_risk | E12: Balancesheetheader | F12: Balance sheet header | G12: BalancesheetheaderNTMR | H12: =HYPERLINK( "#'Definitions'!A" & MATCH(G12, Definitions!A:A, 0), G12) -> BalancesheetheaderNTMR | I12: BalancesheetheaderNTMR | J12: =IF(I12="","", HYPERLINK( "#'Enumerations'!A" & MATCH(I12, Enumerations!A:A, 0), I12)) -> BalancesheetheaderNTMR | O12: Yes | P12: Unique Group 1
A13: 22 | B13: AssetLiabilityManagement | C13: 202203 | D13: Non_traded_market_risk | E13: Referenceratetype | F13: Reference rate type | G13: ReferenceratetypeNTMR | H13: =HYPERLINK( "#'Definitions'!A" & MATCH(G13, Definitions!A:A, 0), G13) -> ReferenceratetypeNTMR | I13: ReferenceratetypeNTMR | J13: =IF(I13="","", HYPERLINK( "#'Enumerations'!A" & MATCH(I13, Enumerations!A:A, 0), I13)) -> ReferenceratetypeNTMR | P13: Unique Group 1
A14: 22 | B14: AssetLiabilityManagement | C14: 202203 | D14: Non_traded_market_risk | E14: ReferenceRate | F14: ALM reference rate | G14: ALMreferencerateNTMR | H14: =HYPERLINK( "#'Definitions'!A" & MATCH(G14, Definitions!A:A, 0), G14) -> ALMreferencerateNTMR | I14: ALMreferencerateNTMR | J14: =IF(I14="","", HYPERLINK( "#'Enumerations'!A" & MATCH(I14, Enumerations!A:A, 0), I14)) -> ALMreferencerateNTMR | P14: Unique Group 1
A15: 22 | B15: AssetLiabilityManagement | C15: 202203 | D15: Non_traded_market_risk | E15: Balancesheetitem | F15: Balance sheet item | G15: BalancesheetitemNTMR | H15: =HYPERLINK( "#'Definitions'!A" & MATCH(G15, Definitions!A:A, 0), G15) -> BalancesheetitemNTMR | I15: BalancesheetitemNTMR | J15: =IF(I15="","", HYPERLINK( "#'Enumerations'!A" & MATCH(I15, Enumerations!A:A, 0), I15)) -> BalancesheetitemNTMR | P15: Unique Group 1
A16: 22 | B16: AssetLiabilityManagement | C16: 202203 | D16: Non_traded_market_risk | E16: InterestRateSensitivity | F16: ALM interest rate sensitivity | G16: ALMinterestratesensitivity | H16: =HYPERLINK( "#'Definitions'!A" & MATCH(G16, Definitions!A:A, 0), G16) -> ALMinterestratesensitivity | I16: ALMinterestratesensitivity | J16: =IF(I16="","", HYPERLINK( "#'Enumerations'!A" & MATCH(I16, Enumerations!A:A, 0), I16)) -> ALMinterestratesensitivity | P16: Unique Group 1
A17: 22 | B17: AssetLiabilityManagement | C17: 202203 | D17: Non_traded_market_risk | E17: Repricingperiod | F17: Repricing period | G17: Repricingperiod | H17: =HYPERLINK( "#'Definitions'!A" & MATCH(G17, Definitions!A:A, 0), G17) -> Repricingperiod | I17: Repricingperiod | J17: =IF(I17="","", HYPERLINK( "#'Enumerations'!A" & MATCH(I17, Enumerations!A:A, 0), I17)) -> Repricingperiod | O17: Yes | P17: Unique Group 1
A18: 22 | B18: AssetLiabilityManagement | C18: 202203 | D18: Non_traded_market_risk | E18: Behaviouralisedbalance | F18: Behaviouralised balance | G18: Behaviouralisedbalance | H18: =HYPERLINK( "#'Definitions'!A" & MATCH(G18, Definitions!A:A, 0), G18) -> Behaviouralisedbalance | J18: =IF(I18="","", HYPERLINK( "#'Enumerations'!A" & MATCH(I18, Enumerations!A:A, 0), I18)) | K18: Float | L18: 0 | N18: Inclusive | O18: Yes
A19: 79 | B19: Basis_of_preparation_index | C19: 202701 | D19: Comments | E19: Context | F19: Context | G19: Context | H19: =HYPERLINK( "#'Definitions'!A" & MATCH(G19, Definitions!A:A, 0), G19) -> Context | I19: ContextBasisOfPreparationIndex | J19: =IF(I19="","", HYPERLINK( "#'Enumerations'!A" & MATCH(I19, Enumerations!A:A, 0), I19)) -> ContextBasisOfPreparationIndex
A20: 79 | B20: Basis_of_preparation_index | C20: 202701 | D20: Comments | E20: Commenttype | F20: Comment type | G20: Commenttype | H20: =HYPERLINK( "#'Definitions'!A" & MATCH(G20, Definitions!A:A, 0), G20) -> Commenttype | I20: Commenttype | J20: =IF(I20="","", HYPERLINK( "#'Enumerations'!A" & MATCH(I20, Enumerations!A:A, 0), I20)) -> Commenttype
A21: 79 | B21: Basis_of_preparation_index | C21: 202701 | D21: Comments | E21: RuleID | F21: Rule ID | G21: RuleID | H21: =HYPERLINK( "#'Definitions'!A" & MATCH(G21, Definitions!A:A, 0), G21) -> RuleID | J21: =IF(I21="","", HYPERLINK( "#'Enumerations'!A" & MATCH(I21, Enumerations!A:A, 0), I21)) | K21: String (255 long)
A22: 79 | B22: Basis_of_preparation_index | C22: 202701 | D22: Comments | E22: Comment | F22: Comment | G22: Comment | H22: =HYPERLINK( "#'Definitions'!A" & MATCH(G22, Definitions!A:A, 0), G22) -> Comment | J22: =IF(I22="","", HYPERLINK( "#'Enumerations'!A" & MATCH(I22, Enumerations!A:A, 0), I22)) | K22: Comment (2000 long)
A23: 79 | B23: Basis_of_preparation_index | C23: 202701 | D23: Actuals_index | E23: Datarequestname | F23: Data request name | G23: Datarequestname | H23: =HYPERLINK( "#'Definitions'!A" & MATCH(G23, Definitions!A:A, 0), G23) -> Datarequestname | J23: =IF(I23="","", HYPERLINK( "#'Enumerations'!A" & MATCH(I23, Enumerations!A:A, 0), I23)) | K23: String (255 long) | O23: Yes
A24: 79 | B24: Basis_of_preparation_index | C24: 202701 | D24: Actuals_index | E24: Contentcode | F24: Content code | G24: Contentcode | H24: =HYPERLINK( "#'Definitions'!A" & MATCH(G24, Definitions!A:A, 0), G24) -> Contentcode | J24: =IF(I24="","", HYPERLINK( "#'Enumerations'!A" & MATCH(I24, Enumerations!A:A, 0), I24)) | K24: String (255 long) | O24: Yes
A25: 79 | B25: Basis_of_preparation_index | C25: 202701 | D25: Actuals_index | E25: Basisofpreparationsection | F25: Basis of preparation section | G25: Basisofpreparationsection | H25: =HYPERLINK( "#'Definitions'!A" & MATCH(G25, Definitions!A:A, 0), G25) -> Basisofpreparationsection | J25: =IF(I25="","", HYPERLINK( "#'Enumerations'!A" & MATCH(I25, Enumerations!A:A, 0), I25)) | K25: String (255 long) | O25: Yes
A26: 79 | B26: Basis_of_preparation_index | C26: 202701 | D26: Actuals_index | E26: Basisofpreparationquestionnumber | F26: Basis of preparation question number | G26: Basisofpreparationquestionnumber | H26: =HYPERLINK( "#'Definitions'!A" & MATCH(G26, Definitions!A:A, 0), G26) -> Basisofpreparationquestionnumber | J26: =IF(I26="","", HYPERLINK( "#'Enumerations'!A" & MATCH(I26, Enumerations!A:A, 0), I26)) | K26: String (255 long) | O26: Yes | P26: Unique Group 1
A27: 79 | B27: Basis_of_preparation_index | C27: 202701 | D27: Actuals_index | E27: Basisofpreparationquestion | F27: Basis of preparation question | G27: Basisofpreparationquestion | H27: =HYPERLINK( "#'Definitions'!A" & MATCH(G27, Definitions!A:A, 0), G27) -> Basisofpreparationquestion | J27: =IF(I27="","", HYPERLINK( "#'Enumerations'!A" & MATCH(I27, Enumerations!A:A, 0), I27)) | K27: String (255 long) | O27: Yes
A28: 79 | B28: Basis_of_preparation_index | C28: 202701 | D28: Actuals_index | E28: Zipfoldername | F28: Zip folder name | G28: Zipfoldername | H28: =HYPERLINK( "#'Definitions'!A" & MATCH(G28, Definitions!A:A, 0), G28) -> Zipfoldername | J28: =IF(I28="","", HYPERLINK( "#'Enumerations'!A" & MATCH(I28, Enumerations!A:A, 0), I28)) | K28: String (255 long)
A29: 79 | B29: Basis_of_preparation_index | C29: 202701 | D29: Actuals_index | E29: Filename | F29: File name (exact match including extension .xlsx, .docs, .pdf, .txt, .html, etc.) | G29: Filename | H29: =HYPERLINK( "#'Definitions'!A" & MATCH(G29, Definitions!A:A, 0), G29) -> Filename | J29: =IF(I29="","", HYPERLINK( "#'Enumerations'!A" & MATCH(I29, Enumerations!A:A, 0), I29)) | K29: String (255 long) | P29: Unique Group 1
A30: 79 | B30: Basis_of_preparation_index | C30: 202701 | D30: Actuals_index | E30: Pagenumber | F30: Page number | G30: Pagenumber | H30: =HYPERLINK( "#'Definitions'!A" & MATCH(G30, Definitions!A:A, 0), G30) -> Pagenumber | J30: =IF(I30="","", HYPERLINK( "#'Enumerations'!A" & MATCH(I30, Enumerations!A:A, 0), I30)) | K30: Int | L30: 0 | N30: Inclusive | P30: Unique Group 1
A31: 79 | B31: Basis_of_preparation_index | C31: 202701 | D31: Actuals_index | E31: Firmcomment | F31: Firm comment | G31: Firmcomment | H31: =HYPERLINK( "#'Definitions'!A" & MATCH(G31, Definitions!A:A, 0), G31) -> Firmcomment | J31: =IF(I31="","", HYPERLINK( "#'Enumerations'!A" & MATCH(I31, Enumerations!A:A, 0), I31)) | K31: Comment (2000 long)
A32: 79 | B32: Basis_of_preparation_index | C32: 202701 | D32: Projections_index | E32: Datarequestname | F32: Data request name | G32: Datarequestname | H32: =HYPERLINK( "#'Definitions'!A" & MATCH(G32, Definitions!A:A, 0), G32) -> Datarequestname | J32: =IF(I32="","", HYPERLINK( "#'Enumerations'!A" & MATCH(I32, Enumerations!A:A, 0), I32)) | K32: String (255 long) | O32: Yes
A33: 79 | B33: Basis_of_preparation_index | C33: 202701 | D33: Projections_index | E33: Contentcode | F33: Content code | G33: Contentcode | H33: =HYPERLINK( "#'Definitions'!A" & MATCH(G33, Definitions!A:A, 0), G33) -> Contentcode | J33: =IF(I33="","", HYPERLINK( "#'Enumerations'!A" & MATCH(I33, Enumerations!A:A, 0), I33)) | K33: String (255 long) | O33: Yes
A34: 79 | B34: Basis_of_preparation_index | C34: 202701 | D34: Projections_index | E34: Basisofpreparationsection | F34: Basis of preparation section | G34: Basisofpreparationsection | H34: =HYPERLINK( "#'Definitions'!A" & MATCH(G34, Definitions!A:A, 0), G34) -> Basisofpreparationsection | J34: =IF(I34="","", HYPERLINK( "#'Enumerations'!A" & MATCH(I34, Enumerations!A:A, 0), I34)) | K34: String (255 long) | O34: Yes
A35: 79 | B35: Basis_of_preparation_index | C35: 202701 | D35: Projections_index | E35: Basisofpreparationquestionnumber | F35: Basis of preparation question number | G35: Basisofpreparationquestionnumber | H35: =HYPERLINK( "#'Definitions'!A" & MATCH(G35, Definitions!A:A, 0), G35) -> Basisofpreparationquestionnumber | J35: =IF(I35="","", HYPERLINK( "#'Enumerations'!A" & MATCH(I35, Enumerations!A:A, 0), I35)) | K35: String (255 long) | O35: Yes | P35: Unique Group 1
A36: 79 | B36: Basis_of_preparation_index | C36: 202701 | D36: Projections_index | E36: Basisofpreparationquestion | F36: Basis of preparation question | G36: Basisofpreparationquestion | H36: =HYPERLINK( "#'Definitions'!A" & MATCH(G36, Definitions!A:A, 0), G36) -> Basisofpreparationquestion | J36: =IF(I36="","", HYPERLINK( "#'Enumerations'!A" & MATCH(I36, Enumerations!A:A, 0), I36)) | K36: String (255 long) | O36: Yes
A37: 79 | B37: Basis_of_preparation_index | C37: 202701 | D37: Projections_index | E37: Zipfoldername | F37: Zip folder name | G37: Zipfoldername | H37: =HYPERLINK( "#'Definitions'!A" & MATCH(G37, Definitions!A:A, 0), G37) -> Zipfoldername | J37: =IF(I37="","", HYPERLINK( "#'Enumerations'!A" & MATCH(I37, Enumerations!A:A, 0), I37)) | K37: String (255 long)
A38: 79 | B38: Basis_of_preparation_index | C38: 202701 | D38: Projections_index | E38: Filename | F38: File name (exact match including extension .xlsx, .docs, .pdf, .txt, .html, etc.) | G38: Filename | H38: =HYPERLINK( "#'Definitions'!A" & MATCH(G38, Definitions!A:A, 0), G38) -> Filename | J38: =IF(I38="","", HYPERLINK( "#'Enumerations'!A" & MATCH(I38, Enumerations!A:A, 0), I38)) | K38: String (255 long) | P38: Unique Group 1
A39: 79 | B39: Basis_of_preparation_index | C39: 202701 | D39: Projections_index | E39: Pagenumber | F39: Page number | G39: Pagenumber | H39: =HYPERLINK( "#'Definitions'!A" & MATCH(G39, Definitions!A:A, 0), G39) -> Pagenumber | J39: =IF(I39="","", HYPERLINK( "#'Enumerations'!A" & MATCH(I39, Enumerations!A:A, 0), I39)) | K39: Int | L39: 0 | N39: Inclusive | P39: Unique Group 1
A40: 79 | B40: Basis_of_preparation_index | C40: 202701 | D40: Projections_index | E40: Firmcomment | F40: Firm comment | G40: Firmcomment | H40: =HYPERLINK( "#'Definitions'!A" & MATCH(G40, Definitions!A:A, 0), G40) -> Firmcomment | J40: =IF(I40="","", HYPERLINK( "#'Enumerations'!A" & MATCH(I40, Enumerations!A:A, 0), I40)) | K40: Comment (2000 long)
...

Sheet Enumerations
A1: Enumerations
A3: Enumeration name | B3: Enumeration | C3: Description
A4: Accountingdesignation | B4: Financial assets at amortised cost | C4: FINREP F1.1 row 181.
A5: Accountingdesignation | B5: Financial assets at fair value through other comprehensive income | C5: FINREP F1.1 row 141.
A6: Accountingdesignation | B6: Financial assets designated at fair value through profit or loss | C6: FINREP F1.1 row 100.
A7: Accountingdesignation | B7: Financial assets held for trading | C7: FINREP F1.1 row 050.
A8: Accountingdesignation | B8: Non-trading financial assets mandatorily at fair value through profit or loss | C8: FINREP F1.1 row 096.
A9: Accountingparameter | B9: Discount rate | C9: The rate used to discount post-employment benefit obligations, as per IAS 19 paragraph 83.
A10: Accountingparameter | B10: Inflation rate | C10: The assumption used for long term inflation (RPI) expressed as an annual rate, in the valuation of post-employment benefit obligations.
A11: Accountingparameter | B11: Pension increases | C11: The assumption used for average annual pension increases in the valuation of the post-employment benefit obligations. Pension Increases should represent the liability-weighted average of pension increase assumptions.
A12: Accountstatus | B12: In possession | C12: In possession
A13: Accountstatus | B13: Closed good | C13: Closed good
A14: Accountstatus | B14: Written off | C14: Written off
... A1475: Historicalperiodyear | B1475: 2019 | C1475: 2019
A1476: Historicalperiodyear | B1476: 2020 | C1476: 2020
A1477: Historicalperiodyear | B1477: 2021 | C1477: 2021
A1478: Historicalperiodyear | B1478: 2022 | C1478: 2022
A1479: Historicalperiodyear | B1479: 2023 | C1479: 2023
A1480: Historicalperiodyear | B1480: 2024 | C1480: 2024
A1481: Historicalperiodyear | B1481: 2025 | C1481: 2025
A1482: Historicalperiodyear | B1482: 2026 | C1482: 2026
A1483: Historicalperiodyear | B1483: 2027 | C1483: 2027
A1484: Historicalperiodyear | B1484: 2028 | C1484: 2028
A1485: Historicalperiodyear | B1485: 2029 | C1485: 2029
A1486: Historicalperiodyear | B1486: 2030 | C1486: 2030
A1487: Historicalperiodyear | B1487: Pre 2006 | C1487: Pre 2006
A1488: HMOindicator | B1488: HMO | C1488: HMO
A1489: HMOindicator | B1489: Non HMO | C1489: Non HMO
A1490: IBclassification | B1490: IB | C1490: IB
A1491: IBclassification | B1491: Non-IB | C1491: Non-IB
A1492: IBincomelevel1 | B1492: Net interest income | C1492: The net interest in the reference period. This inclues both interest reported in the Net interest income projections template and all other group interest.
A1493: IBincomelevel1 | B1493: Fee and commission income | C1493: All fee and commission income in the reference period. This should reconcile to the fee and commission income reported in Other income details worksheet in the Fees and Costs projections template.
A1494: IBincomelevel1 | B1494: Fee and commission expenses | C1494: All fee and commission expense in the reference period. This should reconcile to the fee and commission expense reported in Other expense details worksheet in the Fees and Costs projections template.
A1495: IBincomelevel2 | B1495: Interest on banking activities | C1495: The interest income reported in Net interest income projections template from all banking activities. All other group interest from activities such as insurance business should be excluded. This should be the sum of all positive and negative interest reported against Accouting categories Assets and Derivatives - Assets. When Profit or loss item level 1 equals Interest expense and it should be the sum of all positive and negative interest reported against Accouting categories Liabilities and Derivatives - liabilities when Profit or loss item level 1 equals Interest expense. When Profit or loss item level 1 equals net interest income it should be the sum of all positive and negative interest reported on the net interest income projections template.
A1496: IBincomelevel2 | B1496: Trading book funding cost | C1496: Trading book funding cost
A1497: IBincomelevel2 | B1497: Other group NII | C1497: This should be the sum of Other group interest income less other group interest expense.
A1498: IFRS9residualmaturityband | B1498: <6m | C1498: <6m
... A1721: Investmentgrade | B1721: Sub investment grade | C1721: Sub investment grade
A1722: IRBcreditgrade | B1722: 0 | C1722: 0
A1723: IRBcreditgrade | B1723: 1 | C1723: 1
...

Sheet Definitions
A1: Definitions
A3: Definition Name | B3: Definition
A4: AccountingBalance | B4: The amount of a balance sheet item as defined by statutory accounting standards as of end of the period under consideration. e.g. the carrying amount of an asset as per IAS 36 or fair value of revenue as per IAS 18.
A5: Accountingcategory | B5: A high level accounting category.
A6: AccountingCVAposthedge | B6: Accounting balance of credit valuation adjustments (CVA) net of hedges.
A7: AccountingCVAprehedge | B7: Accounting balance of credit valuation adjustments (CVA) gross of hedges.
A8: Accountingdesignation | B8: The accounting method under which the value of the item is recorded in the firm's financial statements.
A9: Accountingparameter | B9: An assumption used in the derivation of the IAS19 liabilities.
A10: Accountingparametervalue | B10: The value of the associated 'accounting parameter' expressed as a decimal.
A11: Accountstatus | B11: An indicator of whether the account is projected to be up-to-date, in arrears, in default, in possession, written off or closed good at the projection period.
A12: Actualsaleprice | B12: the realised sale price of the property upon disposal.
A13: Additionalinformation | B13: Please add any relevant additional information relating to the reported data.
A14: Affordability | B14: A banding for the customers' monthly mortgage payment, divided by the customers' monthly NET income at origination of contract.
... A771: Zipfoldername | B771: The exact name of the zip folder that the File is submitted within. This is to assist with troubleshooting.

Sheet Validations
A1: Validations
A3: Template | B3: Version | C3: Tab Name | D3: Field Name | E3: Rule Type | F3: Range_Bottom | G3: Range_Top | H3: Range_Scope | I3: Published Rule Id | J3: Description
A4: AssetLiabilityManagement | B4: 202203 | C4: Comments | D4: Comment | E4: Type | I4: 24857 | J4: For the field noted, the reported data point is in the expected format (e.g. no strings are expected in numerical fields)
A5: AssetLiabilityManagement | B5: 202203 | C5: Comments | D5: Commenttype | E5: Enumeration | I5: 24855 | J5: This field must be populated using a valid option from the list in the STDF Dictionary for this field.
A6: AssetLiabilityManagement | B6: 202203 | C6: Comments | D6: Context | E6: Enumeration | I6: 24854 | J6: This field must be populated using a valid option from the list in the STDF Dictionary for this field.
A7: AssetLiabilityManagement | B7: 202203 | C7: Comments | D7: RuleID | E7: Type | I7: 24856 | J7: For the field noted, the reported data point is in the expected format (e.g. no strings are expected in numerical fields)
A8: AssetLiabilityManagement | B8: 202203 | C8: Non_traded_market_risk | E8: Pattern | I8: 27281 | J8: Pattern rules limit the domain#hierarchy (enumeration) choices depending upon prior domain#hierarchy (enumeration) choice
A9: AssetLiabilityManagement | B9: 202203 | C9: Non_traded_market_risk | E9: Unique | I9: 27070 | J9: Unique rules limits one or more field patterns to only occurring once
A10: AssetLiabilityManagement | B10: 202203 | C10: Non_traded_market_risk | D10: Balancesheetcurrency | E10: Enumeration | I10: 15956 | J10: This field must be populated using a valid option from the list in the STDF Dictionary for this field.
A11: AssetLiabilityManagement | B11: 202203 | C11: Non_traded_market_risk | D11: Balancesheetcurrency | E11: Mandatory | I11: 16204 | J11: This validates that the referenced field has been populated as it is mandatory. It does not check the validity of the data point.
A12: AssetLiabilityManagement | B12: 202203 | C12: Non_traded_market_risk | D12: Balancesheetheader | E12: Enumeration | I12: 15957 | J12: This field must be populated using a valid option from the list in the STDF Dictionary for this field.
A13: AssetLiabilityManagement | B13: 202203 | C13: Non_traded_market_risk | D13: Balancesheetheader | E13: Mandatory | I13: 16205 | J13: This validates that the referenced field has been populated as it is mandatory. It does not check the validity of the data point.
A14: AssetLiabilityManagement | B14: 202203 | C14: Non_traded_market_risk | D14: Balancesheetitem | E14: Enumeration | I14: 15960 | J14: This field must be populated using a valid option from the list in the STDF Dictionary for this field.
A15: AssetLiabilityManagement | B15: 202203 | C15: Non_traded_market_risk | D15: Behaviouralisedbalance | E15: Mandatory | I15: 16208 | J15: This validates that the referenced field has been populated as it is mandatory. It does not check the validity of the data point.
A16: AssetLiabilityManagement | B16: 202203 | C16: Non_traded_market_risk | D16: Behaviouralisedbalance | E16: Range | F16: 0 | H16: Inclusive | I16: 18800 | J16: For the field noted, the data must be within the pre-defined submission range.
A17: AssetLiabilityManagement | B17: 202203 | C17: Non_traded_market_risk | D17: Behaviouralisedbalance | E17: Type | I17: 15963 | J17: For the field noted, the reported data point is in the expected format (e.g. no strings are expected in numerical fields)
A18: AssetLiabilityManagement | B18: 202203 | C18: Non_traded_market_risk | D18: InterestRateSensitivity | E18: Enumeration | I18: 15961 | J18: This field must be populated using a valid option from the list in the STDF Dictionary for this field.
A19: AssetLiabilityManagement | B19: 202203 | C19: Non_traded_market_risk | D19: Organisationalunitlevel1 | E19: Mandatory | I19: 16202 | J19: This validates that the referenced field has been populated as it is mandatory. It does not check the validity of the data point.
A20: AssetLiabilityManagement | B20: 202203 | C20: Non_traded_market_risk | D20: Organisationalunitlevel1 | E20: Type | I20: 15953 | J20: For the field noted, the reported data point is in the expected format (e.g. no strings are expected in numerical fields)
A21: AssetLiabilityManagement | B21: 202203 | C21: Non_traded_market_risk | D21: Organisationalunitlevel2 | E21: Mandatory | I21: 16203 | J21: This validates that the referenced field has been populated as it is mandatory. It does not check the validity of the data point.
A22: AssetLiabilityManagement | B22: 202203 | C22: Non_traded_market_risk | D22: Organisationalunitlevel2 | E22: Type | I22: 15954 | J22: For the field noted, the reported data point is in the expected format (e.g. no strings are expected in numerical fields)
A23: AssetLiabilityManagement | B23: 202203 | C23: Non_traded_market_risk | D23: Organisationalunitlevel3 | E23: Type | I23: 15955 | J23: For the field noted, the reported data point is in the expected format (e.g. no strings are expected in numerical fields)
A24: AssetLiabilityManagement | B24: 202203 | C24: Non_traded_market_risk | D24: ReferenceRate | E24: Enumeration | I24: 15959 | J24: This field must be populated using a valid option from the list in the STDF Dictionary for this field.
A25: AssetLiabilityManagement | B25: 202203 | C25: Non_traded_market_risk | D25: Referenceratetype | E25: Enumeration | I25: 15958 | J25: This field must be populated using a valid option from the list in the STDF Dictionary for this field.
A26: AssetLiabilityManagement | B26: 202203 | C26: Non_traded_market_risk | D26: Repricingperiod | E26: Enumeration | I26: 15962 | J26: This field must be populated using a valid option from the list in the STDF Dictionary for this field.
A27: AssetLiabilityManagement | B27: 202203 | C27: Non_traded_market_risk | D27: Repricingperiod | E27: Mandatory | I27: 16207 | J27: This validates that the referenced field has been populated as it is mandatory. It does not check the validity of the data point.
A28: Basis_of_preparation_index | B28: 202701 | C28: Actuals_index | E28: Unique | I28: 27341 | J28: Unique rules limits one or more field patterns to only occurring once
A29: Basis_of_preparation_index | B29: 202701 | C29: Actuals_index | D29: Basisofpreparationquestion | E29: Mandatory | I29: 19973 | J29: This validates that the referenced field has been populated as it is mandatory. It does not check the validity of the data point.
A30: Basis_of_preparation_index | B30: 202701 | C30: Actuals_index | D30: Basisofpreparationquestion | E30: Type | I30: 25456 | J30: For the field noted, the reported data point is in the expected format (e.g. no strings are expected in numerical fields)
A31: Basis_of_preparation_index | B31: 202701 | C31: Actuals_index | D31: Basisofpreparationquestionnumber | E31: Mandatory | I31: 24655 | J31: This validates that the referenced field has been populated as it is mandatory. It does not check the validity of the data point.
A32: Basis_of_preparation_index | B32: 202701 | C32: Actuals_index | D32: Basisofpreparationquestionnumber | E32: Type | I32: 24643 | J32: For the field noted, the reported data point is in the expected format (e.g. no strings are expected in numerical fields)
A33: Basis_of_preparation_index | B33: 202701 | C33: Actuals_index | D33: Basisofpreparationsection | E33: Mandatory | I33: 24654 | J33: This validates that the referenced field has been populated as it is mandatory. It does not check the validity of the data point.
A34: Basis_of_preparation_index | B34: 202701 | C34: Actuals_index | D34: Basisofpreparationsection | E34: Type | I34: 24642 | J34: For the field noted, the reported data point is in the expected format (e.g. no strings are expected in numerical fields)
A35: Basis_of_preparation_index | B35: 202701 | C35: Actuals_index | D35: Contentcode | E35: Mandatory | I35: 24653 | J35: This validates that the referenced field has been populated as it is mandatory. It does not check the validity of the data point.
A36: Basis_of_preparation_index | B36: 202701 | C36: Actuals_index | D36: Contentcode | E36: Type | I36: 24641 | J36: For the field noted, the reported data point is in the expected format (e.g. no strings are expected in numerical fields)
A37: Basis_of_preparation_index | B37: 202701 | C37: Actuals_index | D37: Datarequestname | E37: Mandatory | I37: 24652 | J37: This validates that the referenced field has been populated as it is mandatory. It does not check the validity of the data point.
A38: Basis_of_preparation_index | B38: 202701 | C38: Actuals_index | D38: Datarequestname | E38: Type | I38: 24640 | J38: For the field noted, the reported data point is in the expected format (e.g. no strings are expected in numerical fields)
A39: Basis_of_preparation_index | B39: 202701 | C39: Actuals_index | D39: Filename | E39: Type | I39: 19966 | J39: For the field noted, the reported data point is in the expected format (e.g. no strings are expected in numerical fields)
A40: Basis_of_preparation_index | B40: 202701 | C40: Actuals_index | D40: Firmcomment | E40: Type | I40: 19968 | J40: For the field noted, the reported data point is in the expected format (e.g. no strings are expected in numerical fields)
A41: Basis_of_preparation_index | B41: 202701 | C41: Actuals_index | D41: Pagenumber | E41: Range | F41: 0 | H41: Inclusive | I41: 23734 | J41: For the field noted, the data must be within the pre-defined submission range.
...

Sheet Patterns
A1: Pattern
A3: Template_Name | B3: Version | C3: Tab_Name | D3: Name_or_Label_or_Header | F3: 1 | G3: 2 | H3: 3 | I3: 4 | J3: 5 | K3: 6 | L3: 7 | M3: 8 | N3: 9 | O3: 10 | P3: 11 | Q3: 12 | R3: 13 | S3: 14 | T3: 15 | U3: 16 | V3: 17 | W3: 18 | X3: 19 | Y3: 20 | Z3: 21 | AA3: 22 | AB3: 23 | AC3: 24 | AD3: 25 | AE3: 26 | AF3: 27 | AG3: 28 | AH3: 29 | AI3: 30 | AJ3: 31 | AK3: 32 | AL3: 33 | AM3: 34 | AN3: 35 | AO3: 36 | AP3: 37 | AQ3: 38 | AR3: 39 | AS3: 40 | AT3: 41 | AU3: 42 | AV3: 43 | AW3: 44 | AX3: 45 | AY3: 46 | AZ3: 47 | BA3: 48 | BB3: 49 | BC3: 50 | BD3: 51 | BE3: 52 | BF3: 53 | BG3: 54
A4: Fees_and_costs_projections | B4: 202701 | C4: Other_expense_details | D4: Header | E4: 1 | F4: Organisational unit level 1 | G4: Organisational unit level 2 | H4: Organisational unit level 3 | I4: Constant or dynamic currency | J4: Country of exposure | K4: Other expense item level 1 | L4: Other expense item level 2 | M4: Scenario | N4: Projection period | O4: Expense
A5: Fees_and_costs_projections | B5: 202701 | C5: Other_expense_details | D5: Name | E5: 2 | K5: Administrative expenses | L5: Insurance claims
A6: Fees_and_costs_projections | B6: 202701 | C6: Other_expense_details | D6: Name | E6: 3 | K6: Administrative expenses | L6: Branch related costs
A7: Fees_and_costs_projections | B7: 202701 | C7: Other_expense_details | D7: Name | E7: 4 | K7: Administrative expenses | L7: Marketing and advertising
A8: Fees_and_costs_projections | B8: 202701 | C8: Other_expense_details | D8: Name | E8: 5 | K8: Administrative expenses | L8: IT and infrastructure
A9: Fees_and_costs_projections | B9: 202701 | C9: Other_expense_details | D9: Name | E9: 6 | K9: Administrative expenses | L9: FSCS levy
A10: Fees_and_costs_projections | B10: 202701 | C10: Other_expense_details | D10: Name | E10: 7 | K10: Administrative expenses | L10: UK bank levy
A11: Fees_and_costs_projections | B11: 202701 | C11: Other_expense_details | D11: Name | E11: 8 | K11: Administrative expenses | L11: Other administrative expenses
A12: Fees_and_costs_projections | B12: 202701 | C12: Other_expense_details | D12: Name | E12: 9 | K12: Fee and commission expenses
A13: Fees_and_costs_projections | B13: 202701 | C13: Other_expense_details | D13: Name | E13: 10 | K13: Other operating expenses
A14: Fees_and_costs_projections | B14: 202701 | C14: Other_expense_details | D14: Name | E14: 11 | K14: Misconduct risk losses
A15: Fees_and_costs_projections | B15: 202701 | C15: Other_expense_details | D15: Name | E15: 12 | K15: Operational risk losses
A16: Fees_and_costs_projections | B16: 202701 | C16: Other_expense_details | D16: Name | E16: 13 | K16: Other staff expenses | L16: Salaries
A17: Fees_and_costs_projections | B17: 202701 | C17: Other_expense_details | D17: Name | E17: 14 | K17: Other staff expenses | L17: Other staff costs
A18: Fees_and_costs_projections | B18: 202701 | C18: Other_expense_details | D18: Name | E18: 15 | K18: Current year upfront cash awards
A19: Fees_and_costs_projections | B19: 202701 | C19: Other_expense_details | D19: Name | E19: 16 | K19: Current year upfront share awards
A20: Fees_and_costs_projections | B20: 202701 | C20: Other_expense_details | D20: Name | E20: 17 | K20: Previous years deferred cash awards
A21: Fees_and_costs_projections | B21: 202701 | C21: Other_expense_details | D21: Name | E21: 18 | K21: Previous years deferred share awards
A22: Fees_and_costs_projections | B22: 202701 | C22: Other_expense_details | D22: Name | E22: 18 | K22: Future years deferred cash awards
A23: Fees_and_costs_projections | B23: 202701 | C23: Other_expense_details | D23: Name | E23: 18 | K23: Future years deferred share awards
A24: Fees_and_costs_projections | B24: 202701 | C24: Other_expense_details | D24: Name | E24: 19 | K24: Pension contributions to defined benefit schemes
A25: Fees_and_costs_projections | B25: 202701 | C25: Other_expense_details | D25: Name | E25: 20 | K25: Pension contributions to defined contribution schemes
A26: Fees_and_costs_projections | B26: 202701 | C26: Other_expense_details | D26: Name | E26: 21 | K26: Depreciation
A27: Fees_and_costs_projections | B27: 202701 | C27: Other_expense_details | D27: Name | E27: 22 | K27: Goodwill
A28: Fees_and_costs_projections | B28: 202701 | C28: Other_expense_details | D28: Name | E28: 23 | K28: Other reoccuring exceptional items
A29: Fees_and_costs_projections | B29: 202701 | C29: Other_expense_details | D29: Name | E29: 24 | K29: Other one off exceptional items
A30: Capital_projections | B30: 202701 | C30: Profit_or_loss | D30: Header | E30: 1 | F30: Profit or loss item level 1 | G30: Profit or loss item level 2 | H30: Profit or loss item level 3 | I30: Scenario | J30: Projection period | K30: Carrying amount
A31: Capital_projections | B31: 202701 | C31: Profit_or_loss | D31: Name | E31: 2 | F31: Interest income | G31: Interest on banking activities
A32: Capital_projections | B32: 202701 | C32: Profit_or_loss | D32: Name | E32: 3 | F32: Interest expense | G32: Interest on banking activities
A33: Capital_projections | B33: 202701 | C33: Profit_or_loss | D33: Name | E33: 4 | F33: Net interest income | G33: Interest on banking activities
A34: Capital_projections | B34: 202701 | C34: Profit_or_loss | D34: Name | E34: 5 | F34: Interest income | G34: Other group interest income
A35: Capital_projections | B35: 202701 | C35: Profit_or_loss | D35: Name | E35: 6 | F35: Interest expense | G35: Other group interest expense
A36: Capital_projections | B36: 202701 | C36: Profit_or_loss | D36: Name | E36: 7 | F36: Net interest income | G36: Other group NII
A37: Capital_projections | B37: 202701 | C37: Profit_or_loss | D37: Name | E37: 8 | F37: Fee and commission income
A38: Capital_projections | B38: 202701 | C38: Profit_or_loss | D38: Name | E38: 9 | F38: Fee and commission expenses
A39: Capital_projections | B39: 202701 | C39: Profit_or_loss | D39: Name | E39: 10 | F39: Net fee and commission income
A40: Capital_projections | B40: 202701 | C40: Profit_or_loss | D40: Name | E40: 11 | F40: Net traded income (excluding traded risk losses)
A41: Capital_projections | B41: 202701 | C41: Profit_or_loss | D41: Name | E41: 12 | F41: Traded risk losses | G41: Trading book excluding Structured finance
...

Sheet Reconciliations
A1: Reconciliations
A3: Unique ID | B3: Control type | C3: Qualified name | D3: Sign | E3: Template | F3: Worksheet | G3: Dimension | H3: Dimension value or description | I3: Field name | J3: High level reconciliation category | K3: Reconciliation assessment category
A4: 63005 | B4: Source | C4: I7048 | D4: 1 | E4: Stressed_PVA_projections | F4: Totals | G4: Scenario;Projectionperiod | H4: Base;Year 0 | I4: TotalAVA | J4: Totals vs Capital_resources Yr 0-5 | K4: Other (5bps CET1)
A5: 63005 | B5: Target | C5: I6048 | D5: 1 | E5: Capital_projections | F5: Capital_resources | G5: Capitalresourceitemlevel1;Capitalresourceitemlevel2;Scenario;Projectionperiod | H5: Adjustments to CET1 due to prudential filters;(-) Value adjustments due to the requirements for prudent valuation;Base;Year 0 | I5: Balance | J5: Totals vs Capital_resources Yr 0-5 | K5: Other (5bps CET1)
A6: 63006 | B6: Source | C6: I7050 | D6: 1 | E6: Stressed_PVA_projections | F6: Totals | G6: Scenario;Projectionperiod | H6: Base;Year 1 | I6: TotalAVA | J6: Totals vs Capital_resources Yr 0-5 | K6: Other (5bps CET1)
A7: 63006 | B7: Target | C7: I6068 | D7: 1 | E7: Capital_projections | F7: Capital_resources | G7: Capitalresourceitemlevel1;Capitalresourceitemlevel2;Scenario;Projectionperiod | H7: Adjustments to CET1 due to prudential filters;(-) Value adjustments due to the requirements for prudent valuation;Base;Year 1 | I7: Balance | J7: Totals vs Capital_resources Yr 0-5 | K7: Other (5bps CET1)
A8: 63007 | B8: Source | C8: I7052 | D8: 1 | E8: Stressed_PVA_projections | F8: Totals | G8: Scenario;Projectionperiod | H8: Base;Year 2 | I8: TotalAVA | J8: Totals vs Capital_resources Yr 0-5 | K8: Other (5bps CET1)
A9: 63007 | B9: Target | C9: I6094 | D9: 1 | E9: Capital_projections | F9: Capital_resources | G9: Capitalresourceitemlevel1;Capitalresourceitemlevel2;Scenario;Projectionperiod | H9: Adjustments to CET1 due to prudential filters;(-) Value adjustments due to the requirements for prudent valuation;Base;Year 2 | I9: Balance | J9: Totals vs Capital_resources Yr 0-5 | K9: Other (5bps CET1)
A10: 63008 | B10: Source | C10: I7054 | D10: 1 | E10: Stressed_PVA_projections | F10: Totals | G10: Scenario;Projectionperiod | H10: Base;Year 3 | I10: TotalAVA | J10: Totals vs Capital_resources Yr 0-5 | K10: Other (5bps CET1)
A11: 63008 | B11: Target | C11: I6120 | D11: 1 | E11: Capital_projections | F11: Capital_resources | G11: Capitalresourceitemlevel1;Capitalresourceitemlevel2;Scenario;Projectionperiod | H11: Adjustments to CET1 due to prudential filters;(-) Value adjustments due to the requirements for prudent valuation;Base;Year 3 | I11: Balance | J11: Totals vs Capital_resources Yr 0-5 | K11: Other (5bps CET1)
A12: 63009 | B12: Source | C12: I7056 | D12: 1 | E12: Stressed_PVA_projections | F12: Totals | G12: Scenario;Projectionperiod | H12: Base;Year 4 | I12: TotalAVA | J12: Totals vs Capital_resources Yr 0-5 | K12: Other (5bps CET1)
A13: 63009 | B13: Target | C13: I6146 | D13: 1 | E13: Capital_projections | F13: Capital_resources | G13: Capitalresourceitemlevel1;Capitalresourceitemlevel2;Scenario;Projectionperiod | H13: Adjustments to CET1 due to prudential filters;(-) Value adjustments due to the requirements for prudent valuation;Base;Year 4 | I13: Balance | J13: Totals vs Capital_resources Yr 0-5 | K13: Other (5bps CET1)
A14: 63010 | B14: Source | C14: I7058 | D14: 1 | E14: Stressed_PVA_projections | F14: Totals | G14: Scenario;Projectionperiod | H14: Base;Year 5 | I14: TotalAVA | J14: Totals vs Capital_resources Yr 0-5 | K14: Other (5bps CET1)
A15: 63010 | B15: Target | C15: I6172 | D15: 1 | E15: Capital_projections | F15: Capital_resources | G15: Capitalresourceitemlevel1;Capitalresourceitemlevel2;Scenario;Projectionperiod | H15: Adjustments to CET1 due to prudential filters;(-) Value adjustments due to the requirements for prudent valuation;Base;Year 5 | I15: Balance | J15: Totals vs Capital_resources Yr 0-5 | K15: Other (5bps CET1)
... A688: 74284 | B688: Source | C688: I30182 | D688: 1 | E688: Stressed_XVA_projections | F688: XVA | G688: XVAlevel1 | H688: XVA - CVA | I688: Year1change | J688: XVA vs CVA_breakdown | K688: Other (5bps CET1)
A689: 74284 | B689: Target | C689: I30197 | D689: -1 | E689: Stressed_XVA_projections | F689: CVA_breakdown | G689: 0 | H689: 0 | I689: Gainorlosstotal | J689: XVA vs CVA_breakdown | K689: Other (5bps CET1)
A690: 74285 | B690: Source | C690: I30198 | D690: 1 | E690: Stressed_XVA_projections | F690: XVA | G690: XVAlevel1 | H690: XVA - FVA | I690: Year1change | J690: Intra XVA | K690: Other (5bps CET1)
A691: 74285 | B691: Target | C691: I30199 | D691: -1 | E691: Stressed_XVA_projections | F691: XVA | G691: XVAlevel1 | H691: XVA - FVA | I691: Year1explainapproach1Ratesexcinflation | J691: Intra XVA | K691: Other (5bps CET1)
A692: 74285 | B692: Target | C692: I30200 | D692: -1 | E692: Stressed_XVA_projections | F692: XVA | G692: XVAlevel1 | H692: XVA - FVA | I692: Year1explainapproach1Inflation | J692: Intra XVA | K692: Other (5bps CET1)
A693: 74285 | B693: Target | C693: I30201 | D693: -1 | E693: Stressed_XVA_projections | F693: XVA | G693: XVAlevel1 | H693: XVA - FVA | I693: Year1explainapproach1Owncreditfundingspread | J693: Intra XVA | K693: Other (5bps CET1)
A694: 74285 | B694: Target | C694: I30202 | D694: -1 | E694: Stressed_XVA_projections | F694: XVA | G694: XVAlevel1 | H694: XVA - FVA | I694: Year1explainapproach1Othercreditspread | J694: Intra XVA | K694: Other (5bps CET1)
A695: 74285 | B695: Target | C695: I30203 | D695: -1 | E695: Stressed_XVA_projections | F695: XVA | G695: XVAlevel1 | H695: XVA - FVA | I695: Year1explainapproach1FX | J695: Intra XVA | K695: Other (5bps CET1)
A696: 74285 | B696: Target | C696: I30204 | D696: -1 | E696: Stressed_XVA_projections | F696: XVA | G696: XVAlevel1 | H696: XVA - FVA | I696: Year1explainapproach1Equities | J696: Intra XVA | K696: Other (5bps CET1)
A697: 74285 | B697: Target | C697: I30205 | D697: -1 | E697: Stressed_XVA_projections | F697: XVA | G697: XVAlevel1 | H697: XVA - FVA | I697: Year1explainapproach1Commodities | J697: Intra XVA | K697: Other (5bps CET1)
A698: 74285 | B698: Target | C698: I30206 | D698: -1 | E698: Stressed_XVA_projections | F698: XVA | G698: XVAlevel1 | H698: XVA - FVA | I698: Year1explainapproach1Other | J698: Intra XVA | K698: Other (5bps CET1)
A699: 74286 | B699: Source | C699: I30198 | D699: 1 | E699: Stressed_XVA_projections | F699: XVA | G699: XVAlevel1 | H699: XVA - FVA | I699: Year1change | J699: Intra XVA | K699: Other (5bps CET1)
A700: 74286 | B700: Target | C700: I30207 | D700: -1 | E700: Stressed_XVA_projections | F700: XVA | G700: XVAlevel1 | H700: XVA - FVA | I700: Year1explainapproach2Ratesexcinflation | J700: Intra XVA | K700: Other (5bps CET1)
A701: 74286 | B701: Target | C701: I30208 | D701: -1 | E701: Stressed_XVA_projections | F701: XVA | G701: XVAlevel1 | H701: XVA - FVA | I701: Year1explainapproach2Inflation | J701: Intra XVA | K701: Other (5bps CET1)
... A1208: 74416 | B1208: Source | C1208: I30660 | D1208: 1 | E1208: Market_risk_stressed_profit_or_loss_projections | F1208: Totals | G1208: Marketriskassetclass | H1208: Issuer default | I1208: Scenariostresslossorgaintotal | J1208: Totals vs Issuer_default | K1208: Other (5bps CET1)
A1209: 74416 | B1209: Target | C1209: I30676 | D1209: -1 | E1209: Market_risk_stressed_profit_or_loss_projections | F1209: Issuer_default | G1209: 0 | H1209: 0 | I1209: Scenariolossorgain | J1209: Totals vs Issuer_default | K1209: Other (5bps CET1)
A1210: 75354 | B1210: Source | C1210: I37022 | D1210: 1 | E1210: Counterparty_credit_risk_losses_projections | F1210: Aggregate_data | G1210: Aggregationbucket;Tradedriskdataclassification;Collateraldatalevel1 | H1210: Overall portfolio;Actuals;Total | I1210: UCEforcollateralisedderivativenettingsets | J1210: Intra Aggregate_data | K1210: Other (5bps CET1)
A1211: 75354 | B1211: Source | C1211: I37036 | D1211: 1 | E1211: Counterparty_credit_risk_losses_projections | F1211: Aggregate_data | G1211: Aggregationbucket;Tradedriskdataclassification;Collateraldatalevel1 | H1211: Overall portfolio;Actuals;Total | I1211: UCEforuncollateralisedderivativenettingsets | J1211: Intra Aggregate_data | K1211: Other (5bps CET1)
A1212: 75354 | B1212: Target | C1212: I37050 | D1212: -1 | E1212: Counterparty_credit_risk_losses_projections | F1212: Aggregate_data | G1212: Aggregationbucket;Tradedriskdataclassification;Collateraldatalevel1 | H1212: Overall portfolio;Actuals;Total | I1212: TotalUCEforderivativenettingsets | J1212: Intra Aggregate_data | K1212: Other (5bps CET1)
A1213: 75355 | B1213: Source | C1213: I37023 | D1213: 1 | E1213: Counterparty_credit_risk_losses_projections | F1213: Aggregate_data | G1213: Aggregationbucket;Tradedriskdataclassification;Collateraldatalevel1 | H1213: Bucket 1;Actuals;Total | I1213: UCEforcollateralisedderivativenettingsets | J1213: Intra Aggregate_data | K1213: Other (5bps CET1)
A1214: 75355 | B1214: Source | C1214: I37037 | D1214: 1 | E1214: Counterparty_credit_risk_losses_projections | F1214: Aggregate_data | G1214: Aggregationbucket;Tradedriskdataclassification;Collateraldatalevel1 | H1214: Bucket 1;Actuals;Total | I1214: UCEforuncollateralisedderivativenettingsets | J1214: Intra Aggregate_data | K1214: Other (5bps CET1)
A1215: 75355 | B1215: Target | C1215: I37051 | D1215: -1 | E1215: Counterparty_credit_risk_losses_projections | F1215: Aggregate_data | G1215: Aggregationbucket;Tradedriskdataclassification;Collateraldatalevel1 | H1215: Bucket 1;Actuals;Total | I1215: TotalUCEforderivativenettingsets | J1215: Intra Aggregate_data | K1215: Other (5bps CET1)
A1216: 75356 | B1216: Source | C1216: I37024 | D1216: 1 | E1216: Counterparty_credit_risk_losses_projections | F1216: Aggregate_data | G1216: Aggregationbucket;Tradedriskdataclassification;Collateraldatalevel1 | H1216: Bucket 2;Actuals;Total | I1216: UCEforcollateralisedderivativenettingsets | J1216: Intra Aggregate_data | K1216: Other (5bps CET1)
A1217: 75356 | B1217: Source | C1217: I37038 | D1217: 1 | E1217: Counterparty_credit_risk_losses_projections | F1217: Aggregate_data | G1217: Aggregationbucket;Tradedriskdataclassification;Collateraldatalevel1 | H1217: Bucket 2;Actuals;Total | I1217: UCEforuncollateralisedderivativenettingsets | J1217: Intra Aggregate_data | K1217: Other (5bps CET1)
A1218: 75356 | B1218: Target | C1218: I37052 | D1218: -1 | E1218: Counterparty_credit_risk_losses_projections | F1218: Aggregate_data | G1218: Aggregationbucket;Tradedriskdataclassification;Collateraldatalevel1 | H1218: Bucket 2;Actuals;Total | I1218: TotalUCEforderivativenettingsets | J1218: Intra Aggregate_data | K1218: Other (5bps CET1)
A1219: 75357 | B1219: Source | C1219: I37025 | D1219: 1 | E1219: Counterparty_credit_risk_losses_projections | F1219: Aggregate_data | G1219: Aggregationbucket;Tradedriskdataclassification;Collateraldatalevel1 | H1219: Bucket 3;Actuals;Total | I1219: UCEforcollateralisedderivativenettingsets | J1219: Intra Aggregate_data | K1219: Other (5bps CET1)
...

Sheet STDF template map
B1: STDF template map
B3: Risk area | F3: Capital | H3: Net interest income (NII) | J3: Fees and costs | L3: Op risk / Misconduct | N3: Credit risk | P3: Credit risk | R3: Credit risk | T3: Pension | V3: Traded risk | X3: Other
N4: Structured finance | P4: Wholesale | R4: Retail
B6: Projections | D6: Capital resources | F6: Capital projections | H6: Net interest income projections | J6: Fees and costs projections | L6: Capital projections (Op risk projections are part of profit or loss) | N6: Structured finance projections | P6: Credit risk projections | R6: Credit risk projections | T6: Pensions projections | V6: Counterparty credit risk losses projections | X6: UK capital impact projections
H7: Liquidity projections | L7: Material misconduct costs projections | P7: Leveraged loans projections | V7: Net trading income excluding stressed losses projections | X7: Scenario specific projections
V8: Market risk stressed profit or loss projections
V9: Other fair valued items projections
V10: Stressed PVA projections
V11: Stressed XVA projections
D13: RWA | L13: Capital projections (Op risk projections are part of capital req's worksheet) | N13: Structured finance projections | P13: Credit risk projections | R13: Credit risk projections | V13: Counterparty credit risk RWA
V14: Market risk and CVA RWA
B16: Actuals | L16: Operational risk actuals | N16: Structured finance actuals | P16: Corporate sovereign and financial institution credit risk actuals | R16: Retail excluding mortgage credit risk actuals | T16: Pensions actuals | X16: Granular securities funding and financial exposures actuals
P17: Corporate exposures actuals | R17: Retail mortgage credit risk actuals
P18: Leveraged loans actuals
F21: Key
F22: Supplementary templates
F24: Core annual templates
F26: Core quarterly templates

Sheet Capital mapping
B1: Capital mapping
L2: Risk area template | N2: Risk area worksheet
B3: Capital resources | D3: Reinvested earnings | F3: Profit or loss | H3: Interest income | J3: Banking book interest | L3: NII projections | N3: NII projections
J4: Other group interest income
H6: (Interest expense) | J6: Banking book interest | L6: NII projections | N6: NII projections
J7: Other group interest expense
H9: Fee and commission income | L9: Fees_and_costs_projections | N9: Other_income_details
H11: (Fee and commission expenses) | L11: Fees_and_costs_projections | N11: Other_expense_details
H13: Net traded income (excluding traded risk losses) | L13: Net_trading_income_excluding_losses_projections | N13: NTI_excluding_losses
H15: Traded risk losses | J15: Trading book excluding Structured finance | L15: Market_risk_stressed_profit_or_loss_projections | N15: Totals
J16: Counterparty credit risk losses | L16: Counterparty_credit_risk_losses_projections | N16: Aggregate_data
J17: Banking book holding gains and losses | L17: Other_fair_valued_items_projections | N17: OFVI_projections
J18: Securitisation positions | L18: Structured_finance_projections | N18: Structured_finance
J19: Covered bonds | L19: Structured_finance_projections | N19: Structured_finance
J20: Hedge accounting
J21: XVA | L21: Stressed_XVA_projections | N21: Impact_on_income
J22: Other holding gains and losses
H24: Other operating income | L24: Fees_and_costs_projections | N24: Other_income_details
H26: Operational expenses | J26: Other administrative expenses | L26: Fees_and_costs_projections | N26: Other_expense_details
J27: Other staff expenses | L27: Fees_and_costs_projections | N27: Other_expense_details
J28: Current year upfront cash awards | L28: Fees_and_costs_projections | N28: Other_expense_details
J29: Current year upfront share awards | L29: Fees_and_costs_projections | N29: Other_expense_details
J30: Previous years deferred cash awards | L30: Fees_and_costs_projections | N30: Other_expense_details
J31: Previous years deferred share awards | L31: Fees_and_costs_projections | N31: Other_expense_details
J32: Pension contributions to defined benefit schemes | L32: Pensions_projections | N32: CET1_drivers
J33: Pension contributions to defined contribution schemes | L33: Fees_and_costs_projections | N33: Other_expense_details
J34: Depreciation | L34: Fees_and_costs_projections | N34: Other_expense_details
J35: Goodwill | L35: Fees_and_costs_projections | N35: Other_expense_details
J36: Other operating expenses | L36: Fees_and_costs_projections | N36: Other_expense_details
H38: Exceptional items | J38: Operational risk losses
J39: Misconduct risk losses | L39: Material_misconduct_costs_projections | N39: Misconduct_projections
J40: Other exceptional items
H42: Impairments | J42: Corporate, Sovereign and Financial institution credit risk | L42: Credit_risk_projections | N42: Risk_measures_by_portfolio
J43: Retail mortgage credit risk | L43: Credit_risk_projections | N43: Risk_measures_by_portfolio
J44: Retail excluding mortgage credit risk | L44: Credit_risk_projections | N44: Risk_measures_by_portfolio
J45: Structured finance | L45: Structured_finance_projections | N45: Structured_finance
J46: Other impairments on bad and doubtful debts
H48: Other profit or loss items not captured above
H50: Tax | J50: Tax expense
J51: Bank corporation tax surcharge
...

Sheet Balance sheet mapping
D1: Balance sheet mapping
D3: Book | F3: Accounting category | G3: Aggregate credit risk and NII coverage | H3: Further granular credit risk coverage | I3: Aggregate market risk coverage | J3: Further granular market risk coverage
B5: Assets | D5: Trading book | F5: Financial assets held for trading | G5: NII (split by sector/product)
F6: Derivatives | I6: Traded risk, Counterparty credit risk, PVA, XVA Structured finance (Drawn balance, Exposure for RWA, Debt securities and Loans and advances only)
F7: Equity instruments | J7: Tradeable securities (over £50m)
F8: Debt securities | J8: Tradeable securities (over £50m) Financial sector exposures
F9: Loans and advances | J9: Financial sector exposures (excl rev repo) Secured lending (incl rev repo)
D11: Banking book held at fair value | F11: Non-trading financial assets mandatorily at fair value through profit or loss | G11: NII (split by sector/product)
F12: Equity instruments | I12: Other fair value items | J12: Tradeable securities (over £50m)
F13: Debt securities | I13: Other fair value items Structured finance | J13: Tradeable securities (over £50m) Financial sector exposures
F14: Loans and advances | I14: Other fair value items Structured finance | J14: Financial sector exposures (excl rev repo) Secured lending (incl rev repo)
F16: Financial assets designated at fair value through profit or loss | G16: NII (split by sector/product)
F17: Debt securities | I17: Other fair value items Structured finance | J17: Tradeable securities (over £50m) Financial sector exposures
F18: Loans and advances | I18: Other fair value items Structured finance | J18: Financial sector exposures (excl rev repo) Secured lending (incl rev repo)
F20: Financial assets at fair value through other comprehensive income | G20: NII (split by sector/product)
F21: Equity instruments | I21: Other fair value items | J21: Tradeable securities (over £50m)
F22: Debt securities | G22: Wholesale, Structured finance | H22: Large exposures over £10m UK CRE (Over £1m) UK Corporate exposures (Over 250k for SME, Mid and Large corporates and Other wholesale) EU and US exposures (Over 250k for Mid and Large corporates and Other wholesale) Leveraged loans | I22: Other fair value items | J22: Tradeable securities (over £50m) Financial sector exposures
F23: Loans and advances | G23: Wholesale, Retail, Structured finance | H23: Large exposures over £10m UK CRE (Over £1m) UK Corporate exposures (Over 250k for SME, Mid and Large corporates and Other wholesale) EU and US exposures (Over 250k for Mid and Large corporates and Other wholesale) Leveraged loans | I23: Other fair value items | J23: Financial sector exposures (excl rev repo) Secured lending (incl rev repo)
D25: Banking book held at amortised cost | F25: Financial assets at amortised cost | G25: NII (split by sector/product)
F26: Debt securities | G26: Wholesale, Structured finance | H26: Large exposures over £10m UK CRE (Over £1m) UK Corporate exposures (Over 250k for SME, Mid and Large corporates) EU and US exposures (Over 250k for Mid and Large corporates) Leveraged loans | J26: Tradeable securities (over £50m) Financial sector exposures
F27: Loans and advances | G27: Wholesale, Retail, Structured finance | H27: Large exposures over £10m UK CRE (Over £1m) UK Corporate exposures (Over 250k for SME, Mid and Large corporates) EU and US exposures (Over 250k for Mid and Large corporates) Leveraged loans | J27: Financial sector exposures (excl rev repo) Secured lending (incl rev repo)
B29: Liabilities | D29: Trading book | F29: Financial liabilities held for trading | G29: NII (split by sector/product)
F30: Derivatives
F31: Short positions
F32: Deposits | J32: Funding (Repo's less than 1 year from other financial corporations and non-financial corporations, Non maturity deposits, other unsecured funding)
F33: Debt securities issued | J33: Funding (CDs, Commercial paper and all other short term debt securities with less than 1 year original maturity)
F34: Other financial liabilities | J34: Other unsecured funding
D36: Banking book held at fair value | F36: Financial liabilities designated at fair value through profit or loss | G36: NII (split by sector/product)
F37: Deposits | J37: Funding (Repo's less than 1 year from other financial corporations and non-financial corporations, Non maturity deposits, other unsecured funding)
F38: Debt securities issued | J38: Funding (CDs, Commercial paper and all other short term debt securities with less than 1 year original maturity)
F39: Other financial liabilities | J39: Other unsecured funding
D41: Banking book held at amortised cost | F41: Financial liabilities measured at amortised cost | G41: NII (split by sector/product)
